BEGIN:VCALENDAR
VERSION:2.0
PRODID:-//Académie Citoyenne BAO-Jeunessse - ECPv6.15.17.1//NONSGML v1.0//EN
CALSCALE:GREGORIAN
METHOD:PUBLISH
X-WR-CALNAME:Académie Citoyenne BAO-Jeunessse
X-ORIGINAL-URL:https://bao-j.be
X-WR-CALDESC:évènements pour Académie Citoyenne BAO-Jeunessse
REFRESH-INTERVAL;VALUE=DURATION:PT1H
X-Robots-Tag:noindex
X-PUBLISHED-TTL:PT1H
BEGIN:VTIMEZONE
TZID:Europe/Brussels
BEGIN:DAYLIGHT
TZOFFSETFROM:+0100
TZOFFSETTO:+0200
TZNAME:CEST
DTSTART:20250330T010000
END:DAYLIGHT
BEGIN:STANDARD
TZOFFSETFROM:+0200
TZOFFSETTO:+0100
TZNAME:CET
DTSTART:20251026T010000
END:STANDARD
BEGIN:DAYLIGHT
TZOFFSETFROM:+0100
TZOFFSETTO:+0200
TZNAME:CEST
DTSTART:20260329T010000
END:DAYLIGHT
BEGIN:STANDARD
TZOFFSETFROM:+0200
TZOFFSETTO:+0100
TZNAME:CET
DTSTART:20261025T010000
END:STANDARD
BEGIN:DAYLIGHT
TZOFFSETFROM:+0100
TZOFFSETTO:+0200
TZNAME:CEST
DTSTART:20270328T010000
END:DAYLIGHT
BEGIN:STANDARD
TZOFFSETFROM:+0200
TZOFFSETTO:+0100
TZNAME:CET
DTSTART:20271031T010000
END:STANDARD
END:VTIMEZONE
BEGIN:VEVENT
DTSTART;TZID=Europe/Brussels:20260223T090000
DTEND;TZID=Europe/Brussels:20260227T160000
DTSTAMP:20260419T194627
CREATED:20260211T094011Z
LAST-MODIFIED:20260211T094011Z
UID:3550-1771837200-1772208000@bao-j.be
SUMMARY:Stage pour enfants de 6 à 12 ans - À la conquête de l'espace
DESCRIPTION:Sur la voie lactée et en apesanteur\, recherche spationautes au grand cœur pour une mission très spatiale… au cœur des planètes et des 1000 étoiles  \nStage coopératif : “À la conquête de l’espace” pour les enfants de 6 à 12 ans  \n Du 23 au 27 février 2026\n De 9h à 16h (garderie de 8h à 17h)\n Maison des Associations de Richelle (rue au flot 1 4600 Richelle)\n 70€ la semaine \nAu programme : coopération\, découvertes\, aventures intergalactiques et jeux éducatifs… parce qu’ensemble\, on va (vraiment) plus loin 
URL:https://bao-j.be/agenda/stage-pour-enfants-de-6-a-12-ans-a-la-conquete-de-lespace/
LOCATION:Maison des Associations de Richelle\, Rue au flot 1\, Richelle\, 4600\, Belgium
CATEGORIES:stages
ATTACH;FMTTYPE=image/jpeg:https://bao-j.be/wp-content/uploads/2026/01/rvb-a-la-conquete-de-lespace-fevrier-2026-1.jpg
ORGANIZER;CN="BAO-Jeunesse":MAILTO:stages.baoj@gmail.com
END:VEVENT
END:VCALENDAR