BEGIN:VCALENDAR
VERSION:2.0
PRODID:-//Académie Citoyenne BAO-Jeunessse - ECPv6.15.17.1//NONSGML v1.0//EN
CALSCALE:GREGORIAN
METHOD:PUBLISH
X-ORIGINAL-URL:https://bao-j.be
X-WR-CALDESC:évènements pour Académie Citoyenne BAO-Jeunessse
REFRESH-INTERVAL;VALUE=DURATION:PT1H
X-Robots-Tag:noindex
X-PUBLISHED-TTL:PT1H
BEGIN:VTIMEZONE
TZID:Europe/Brussels
BEGIN:DAYLIGHT
TZOFFSETFROM:+0100
TZOFFSETTO:+0200
TZNAME:CEST
DTSTART:20250330T010000
END:DAYLIGHT
BEGIN:STANDARD
TZOFFSETFROM:+0200
TZOFFSETTO:+0100
TZNAME:CET
DTSTART:20251026T010000
END:STANDARD
BEGIN:DAYLIGHT
TZOFFSETFROM:+0100
TZOFFSETTO:+0200
TZNAME:CEST
DTSTART:20260329T010000
END:DAYLIGHT
BEGIN:STANDARD
TZOFFSETFROM:+0200
TZOFFSETTO:+0100
TZNAME:CET
DTSTART:20261025T010000
END:STANDARD
BEGIN:DAYLIGHT
TZOFFSETFROM:+0100
TZOFFSETTO:+0200
TZNAME:CEST
DTSTART:20270328T010000
END:DAYLIGHT
BEGIN:STANDARD
TZOFFSETFROM:+0200
TZOFFSETTO:+0100
TZNAME:CET
DTSTART:20271031T010000
END:STANDARD
END:VTIMEZONE
BEGIN:VEVENT
DTSTART;TZID=Europe/Brussels:20260817T090000
DTEND;TZID=Europe/Brussels:20260821T160000
DTSTAMP:20260420T005237
CREATED:20260211T095850Z
LAST-MODIFIED:20260211T095850Z
UID:3560-1786957200-1787328000@bao-j.be
SUMMARY:Stage pour enfants de 6 à 12 ans - Aventure Lego
DESCRIPTION:🧱✨ Aventure Lego \nPrêts à construire\, imaginer et coopérer ? \nÀ travers des défis\, des constructions collectives et des missions ludiques\, les enfants apprendront à collaborer\, à résoudre des problèmes et à donner vie à leurs idées… brique par brique ! \nUn stage coopératif pour développer l’imagination\, la logique et l’esprit d’équipe dans une ambiance conviviale et bienveillante. \n📅 Du 17 au  21 août 2026🕘 De 9h à 16h (garderie de 8h à 17h)📍 Maison des Associations1\, Rue au Flot4600 Richelle \n💶 70 € la semaine🥪 Prévoir pique-nique et collations \n📩 Infos et inscriptions : stages.baoj@gmail.com📞 087/71.08.54 (en journée) \nEnsemble\, on construit bien plus que des briques 💚
URL:https://bao-j.be/agenda/stage-pour-enfants-de-6-a-12-ans-aventure-lego/
LOCATION:Maison des Associations de Richelle\, Rue au flot 1\, Richelle\, 4600\, Belgium
CATEGORIES:stages
ORGANIZER;CN="BAO-Jeunesse":MAILTO:stages.baoj@gmail.com
END:VEVENT
END:VCALENDAR